Package: hierGWAS Version: 1.39.0 Command: /Library/Frameworks/R.framework/Resources/bin/R CMD INSTALL hierGWAS StartedAt: 2025-10-01 15:04:26 -0400 (Wed, 01 Oct 2025) EndedAt: 2025-10-01 15:04:40 -0400 (Wed, 01 Oct 2025) EllapsedTime: 14.3 seconds RetCode: 0 Status: OK