Package: hierGWAS Version: 1.39.0 Command: /Library/Frameworks/R.framework/Resources/bin/R CMD check --install=check:hierGWAS.install-out.txt --library=/Library/Frameworks/R.framework/Resources/library --no-vignettes --timings hierGWAS_1.39.0.tar.gz StartedAt: 2025-10-02 20:19:19 -0400 (Thu, 02 Oct 2025) EndedAt: 2025-10-02 20:19:41 -0400 (Thu, 02 Oct 2025) EllapsedTime: 22.2 seconds RetCode: 0 Status: WARNINGS CheckDir: hierGWAS.Rcheck Warnings: 1