Package: hiReadsProcessor Version: 1.45.1 Command: /Library/Frameworks/R.framework/Resources/bin/R CMD INSTALL hiReadsProcessor StartedAt: 2025-10-17 15:26:23 -0400 (Fri, 17 Oct 2025) EndedAt: 2025-10-17 15:26:39 -0400 (Fri, 17 Oct 2025) EllapsedTime: 15.5 seconds RetCode: 0 Status: OK