Package: hiReadsProcessor Version: 1.45.1 Command: /Library/Frameworks/R.framework/Resources/bin/R CMD build --keep-empty-dirs --no-resave-data hiReadsProcessor StartedAt: 2025-10-17 16:41:46 -0400 (Fri, 17 Oct 2025) EndedAt: 2025-10-17 16:42:11 -0400 (Fri, 17 Oct 2025) EllapsedTime: 24.3 seconds RetCode: 0 Status: OK PackageFile: hiReadsProcessor_1.45.1.tar.gz PackageFileSize: 3.148 MiB