Package: hiAnnotator Version: 1.43.1 Command: /home/biocbuild/R/R/bin/R CMD INSTALL hiAnnotator StartedAt: 2025-10-23 20:49:43 -0000 (Thu, 23 Oct 2025) EndedAt: 2025-10-23 20:50:28 -0000 (Thu, 23 Oct 2025) EllapsedTime: 45.8 seconds RetCode: 0 Status: OK