Package: hiAnnotator Version: 1.43.1 Command: /home/biocbuild/R/R/bin/R CMD build --keep-empty-dirs --no-resave-data hiAnnotator StartedAt: 2025-10-21 00:27:09 -0000 (Tue, 21 Oct 2025) EndedAt: 2025-10-21 00:28:21 -0000 (Tue, 21 Oct 2025) EllapsedTime: 72.1 seconds RetCode: 1 Status: ERROR PackageFile: None PackageFileSize: NA