Package: hiAnnotator Version: 1.43.1 Command: /home/biocbuild/bbs-3.22-bioc/R/bin/R CMD INSTALL hiAnnotator StartedAt: 2025-10-20 15:26:51 -0400 (Mon, 20 Oct 2025) EndedAt: 2025-10-20 15:27:26 -0400 (Mon, 20 Oct 2025) EllapsedTime: 34.2 seconds RetCode: 0 Status: OK