Package: hiAnnotator Version: 1.43.0 Command: /home/biocbuild/bbs-3.22-bioc/R/bin/R CMD check --install=check:hiAnnotator.install-out.txt --library=/home/biocbuild/bbs-3.22-bioc/R/site-library --timings hiAnnotator_1.43.0.tar.gz StartedAt: 2025-06-20 23:00:24 -0400 (Fri, 20 Jun 2025) EndedAt: 2025-06-20 23:04:43 -0400 (Fri, 20 Jun 2025) EllapsedTime: 259.2 seconds RetCode: 0 Status: OK CheckDir: hiAnnotator.Rcheck Warnings: 0