Package: hiAnnotator Version: 1.43.1 Command: /home/biocbuild/bbs-3.22-bioc/R/bin/R CMD build --keep-empty-dirs --no-resave-data --md5 hiAnnotator StartedAt: 2025-10-20 18:01:00 -0400 (Mon, 20 Oct 2025) EndedAt: 2025-10-20 18:01:49 -0400 (Mon, 20 Oct 2025) EllapsedTime: 49.0 seconds RetCode: 1 Status: ERROR PackageFile: None PackageFileSize: NA