Package: hiAnnotator Version: 1.43.0 Command: /Library/Frameworks/R.framework/Resources/bin/R CMD check --install=check:hiAnnotator.install-out.txt --library=/Library/Frameworks/R.framework/Resources/library --no-vignettes --timings hiAnnotator_1.43.0.tar.gz StartedAt: 2025-06-20 21:13:25 -0400 (Fri, 20 Jun 2025) EndedAt: 2025-06-20 21:17:43 -0400 (Fri, 20 Jun 2025) EllapsedTime: 257.6 seconds RetCode: 0 Status: OK CheckDir: hiAnnotator.Rcheck Warnings: 0