Package: hiAnnotator Version: 1.43.1 Command: /Library/Frameworks/R.framework/Resources/bin/R CMD INSTALL hiAnnotator StartedAt: 2025-10-24 15:19:34 -0400 (Fri, 24 Oct 2025) EndedAt: 2025-10-24 15:19:49 -0400 (Fri, 24 Oct 2025) EllapsedTime: 14.8 seconds RetCode: 0 Status: OK