Package: hiAnnotator Version: 1.43.1 Command: /Library/Frameworks/R.framework/Resources/bin/R CMD build --keep-empty-dirs --no-resave-data hiAnnotator StartedAt: 2025-10-23 16:42:34 -0400 (Thu, 23 Oct 2025) EndedAt: 2025-10-23 16:42:55 -0400 (Thu, 23 Oct 2025) EllapsedTime: 21.2 seconds RetCode: 1 Status: ERROR PackageFile: None PackageFileSize: NA