Package: hermes Version: 1.13.1 Command: /home/biocbuild/bbs-3.22-bioc/R/bin/R CMD INSTALL hermes StartedAt: 2025-10-21 15:29:33 -0400 (Tue, 21 Oct 2025) EndedAt: 2025-10-21 15:30:21 -0400 (Tue, 21 Oct 2025) EllapsedTime: 47.6 seconds RetCode: 0 Status: OK