Package: hermes Version: 1.13.1 Command: /Library/Frameworks/R.framework/Resources/bin/R CMD check --install=check:hermes.install-out.txt --library=/Library/Frameworks/R.framework/Resources/library --no-vignettes --timings hermes_1.13.1.tar.gz StartedAt: 2025-10-27 22:14:20 -0400 (Mon, 27 Oct 2025) EndedAt: 2025-10-27 22:23:52 -0400 (Mon, 27 Oct 2025) EllapsedTime: 572.1 seconds RetCode: 0 Status: OK CheckDir: hermes.Rcheck Warnings: 0