Package: hermes Version: 1.13.1 Command: /Library/Frameworks/R.framework/Resources/bin/R CMD build --keep-empty-dirs --no-resave-data hermes StartedAt: 2025-10-23 16:42:18 -0400 (Thu, 23 Oct 2025) EndedAt: 2025-10-23 16:42:57 -0400 (Thu, 23 Oct 2025) EllapsedTime: 39.4 seconds RetCode: 0 Status: OK PackageFile: hermes_1.13.1.tar.gz PackageFileSize: 3.941 MiB