Package: hermes Version: 1.13.1 Maintainer: Daniel Sabanés Bové MaintainerEmail: daniel.sabanes_bove at rconis.com git_url: https://git.bioconductor.org/packages/hermes git_branch: devel git_last_commit: 8ccc74e git_last_commit_date: 2025-09-08 23:47:20 -0400 (Mon, 08 Sep 2025)