Package: heatmaps Version: 1.33.1 Command: /home/biocbuild/bbs-3.22-bioc/R/bin/R CMD check --install=check:heatmaps.install-out.txt --library=/home/biocbuild/bbs-3.22-bioc/R/site-library --timings heatmaps_1.33.1.tar.gz StartedAt: 2025-10-04 00:32:47 -0400 (Sat, 04 Oct 2025) EndedAt: 2025-10-04 00:35:51 -0400 (Sat, 04 Oct 2025) EllapsedTime: 184.2 seconds RetCode: 0 Status: OK CheckDir: heatmaps.Rcheck Warnings: 0