Package: hdxmsqc Version: 1.5.0 Command: rm -rf hdxmsqc.buildbin-libdir && mkdir hdxmsqc.buildbin-libdir && F:\biocbuild\bbs-3.22-bioc\R\bin\R.exe CMD INSTALL --build --library=hdxmsqc.buildbin-libdir hdxmsqc_1.5.0.tar.gz StartedAt: 2025-08-15 10:27:14 -0400 (Fri, 15 Aug 2025) EndedAt: 2025-08-15 10:28:02 -0400 (Fri, 15 Aug 2025) EllapsedTime: 47.2 seconds RetCode: 0 Status: OK PackageFile: hdxmsqc_1.5.0.zip PackageFileSize: 3.295 MiB