Package: hca Version: 1.17.0 Command: /Library/Frameworks/R.framework/Resources/bin/R CMD build --keep-empty-dirs --no-resave-data hca StartedAt: 2025-10-03 17:19:43 -0400 (Fri, 03 Oct 2025) EndedAt: 2025-10-03 17:23:23 -0400 (Fri, 03 Oct 2025) EllapsedTime: 220.2 seconds RetCode: 0 Status: OK PackageFile: hca_1.17.0.tar.gz PackageFileSize: 488.5 KiB