Package: hca Version: 1.17.0 Command: /Library/Frameworks/R.framework/Resources/bin/R CMD build --keep-empty-dirs --no-resave-data hca StartedAt: 2025-10-03 16:39:58 -0400 (Fri, 03 Oct 2025) EndedAt: 2025-10-03 16:41:17 -0400 (Fri, 03 Oct 2025) EllapsedTime: 78.9 seconds RetCode: 0 Status: OK PackageFile: hca_1.17.0.tar.gz PackageFileSize: 488.6 KiB