Package: hca Version: 1.17.0 Command: rm -rf hca.buildbin-libdir && mkdir hca.buildbin-libdir && /Users/biocbuild/BBS/utils/build-universal.sh hca_1.17.0.tar.gz /Library/Frameworks/R.framework/Resources/bin/R hca.buildbin-libdir StartedAt: 2025-10-03 22:42:05 -0400 (Fri, 03 Oct 2025) EndedAt: 2025-10-03 22:42:08 -0400 (Fri, 03 Oct 2025) EllapsedTime: 3.1 seconds RetCode: 0 Status: OK PackageFile: hca_1.17.0.tgz PackageFileSize: 593.6 KiB