Package: hapFabia Version: 1.51.0 Command: /home/biocbuild/bbs-3.22-bioc/R/bin/R CMD INSTALL hapFabia StartedAt: 2025-10-27 15:15:36 -0400 (Mon, 27 Oct 2025) EndedAt: 2025-10-27 15:15:45 -0400 (Mon, 27 Oct 2025) EllapsedTime: 9.4 seconds RetCode: 0 Status: OK