Package: hapFabia Version: 1.52.0 Command: /Library/Frameworks/R.framework/Resources/bin/R CMD build --keep-empty-dirs --no-resave-data hapFabia StartedAt: 2025-11-02 17:22:08 -0500 (Sun, 02 Nov 2025) EndedAt: 2025-11-02 17:22:41 -0500 (Sun, 02 Nov 2025) EllapsedTime: 33.1 seconds RetCode: 0 Status: OK PackageFile: hapFabia_1.52.0.tar.gz PackageFileSize: 1.62 MiB