Package: hapFabia Version: 1.52.0 Command: rm -rf hapFabia.buildbin-libdir && mkdir hapFabia.buildbin-libdir && /Users/biocbuild/BBS/utils/build-universal.sh hapFabia_1.52.0.tar.gz /Library/Frameworks/R.framework/Resources/bin/R hapFabia.buildbin-libdir StartedAt: 2025-11-01 01:38:02 -0400 (Sat, 01 Nov 2025) EndedAt: 2025-11-01 01:38:22 -0400 (Sat, 01 Nov 2025) EllapsedTime: 19.7 seconds RetCode: 0 Status: OK PackageFile: hapFabia_1.52.0.tgz PackageFileSize: 1.781 MiB