Package: h5vc Version: 2.43.0 Command: F:\biocbuild\bbs-3.22-bioc\R\bin\R.exe CMD INSTALL h5vc StartedAt: 2025-08-14 15:51:27 -0400 (Thu, 14 Aug 2025) EndedAt: 2025-08-14 15:52:15 -0400 (Thu, 14 Aug 2025) EllapsedTime: 47.6 seconds RetCode: 0 Status: OK