Package: h5mread Version: 1.1.1 Command: /Library/Frameworks/R.framework/Resources/bin/R CMD check --install=check:h5mread.install-out.txt --library=/Library/Frameworks/R.framework/Resources/library --no-vignettes --timings h5mread_1.1.1.tar.gz StartedAt: 2025-10-02 21:59:24 -0400 (Thu, 02 Oct 2025) EndedAt: 2025-10-02 22:04:54 -0400 (Thu, 02 Oct 2025) EllapsedTime: 330.7 seconds RetCode: 0 Status: WARNINGS CheckDir: h5mread.Rcheck Warnings: 2