Package: gypsum Version: 1.5.0 Command: /home/biocbuild/R/R/bin/R CMD INSTALL gypsum StartedAt: 2025-10-16 21:17:52 -0000 (Thu, 16 Oct 2025) EndedAt: 2025-10-16 21:18:14 -0000 (Thu, 16 Oct 2025) EllapsedTime: 21.7 seconds RetCode: 0 Status: OK