Package: gypsum Version: 1.5.0 Command: /home/biocbuild/R/R/bin/R CMD build --keep-empty-dirs --no-resave-data gypsum StartedAt: 2025-10-17 01:49:30 -0000 (Fri, 17 Oct 2025) EndedAt: 2025-10-17 01:49:43 -0000 (Fri, 17 Oct 2025) EllapsedTime: 13.0 seconds RetCode: 0 Status: OK PackageFile: gypsum_1.5.0.tar.gz PackageFileSize: 298.9 KiB