Package: gypsum Version: 1.5.0 Command: F:\biocbuild\bbs-3.22-bioc\R\bin\R.exe CMD check --no-multiarch --install=check:gypsum.install-out.txt --library=F:\biocbuild\bbs-3.22-bioc\R\library --no-vignettes --timings gypsum_1.5.0.tar.gz StartedAt: 2025-08-15 04:01:44 -0400 (Fri, 15 Aug 2025) EndedAt: 2025-08-15 04:02:52 -0400 (Fri, 15 Aug 2025) EllapsedTime: 67.3 seconds RetCode: 0 Status: OK CheckDir: gypsum.Rcheck Warnings: 0