Package: gypsum Version: 1.5.0 Command: rm -rf gypsum.buildbin-libdir && mkdir gypsum.buildbin-libdir && F:\biocbuild\bbs-3.22-bioc\R\bin\R.exe CMD INSTALL --build --library=gypsum.buildbin-libdir gypsum_1.5.0.tar.gz StartedAt: 2025-08-15 10:26:46 -0400 (Fri, 15 Aug 2025) EndedAt: 2025-08-15 10:27:21 -0400 (Fri, 15 Aug 2025) EllapsedTime: 35.8 seconds RetCode: 0 Status: OK PackageFile: gypsum_1.5.0.zip PackageFileSize: 426.9 KiB