Package: gypsum Version: 1.5.0 Command: /home/biocbuild/bbs-3.22-bioc/R/bin/R CMD check --install=check:gypsum.install-out.txt --library=/home/biocbuild/bbs-3.22-bioc/R/site-library --timings gypsum_1.5.0.tar.gz StartedAt: 2025-10-20 00:42:42 -0400 (Mon, 20 Oct 2025) EndedAt: 2025-10-20 00:43:37 -0400 (Mon, 20 Oct 2025) EllapsedTime: 55.1 seconds RetCode: 0 Status: OK CheckDir: gypsum.Rcheck Warnings: 0