Package: gypsum Version: 1.5.0 Command: /home/biocbuild/bbs-3.22-bioc/R/bin/R CMD build --keep-empty-dirs --no-resave-data --md5 gypsum StartedAt: 2025-10-19 18:03:05 -0400 (Sun, 19 Oct 2025) EndedAt: 2025-10-19 18:03:13 -0400 (Sun, 19 Oct 2025) EllapsedTime: 8.0 seconds RetCode: 0 Status: OK PackageFile: gypsum_1.5.0.tar.gz PackageFileSize: 278 KiB