Package: gypsum Version: 1.5.0 Command: /Library/Frameworks/R.framework/Resources/bin/R CMD check --install=check:gypsum.install-out.txt --library=/Library/Frameworks/R.framework/Resources/library --no-vignettes --timings gypsum_1.5.0.tar.gz StartedAt: 2025-10-19 22:58:35 -0400 (Sun, 19 Oct 2025) EndedAt: 2025-10-19 23:00:19 -0400 (Sun, 19 Oct 2025) EllapsedTime: 103.3 seconds RetCode: 0 Status: OK CheckDir: gypsum.Rcheck Warnings: 0