Package: gypsum Version: 1.5.0 Command: /Library/Frameworks/R.framework/Resources/bin/R CMD build --keep-empty-dirs --no-resave-data gypsum StartedAt: 2025-10-19 17:32:09 -0400 (Sun, 19 Oct 2025) EndedAt: 2025-10-19 17:32:23 -0400 (Sun, 19 Oct 2025) EllapsedTime: 13.9 seconds RetCode: 0 Status: OK PackageFile: gypsum_1.5.0.tar.gz PackageFileSize: 274.5 KiB