Package: gwasurvivr Version: 1.27.0 Command: chmod a+r gwasurvivr -R && F:\biocbuild\bbs-3.22-bioc\R\bin\R.exe CMD build --keep-empty-dirs --no-resave-data gwasurvivr StartedAt: 2025-08-14 20:42:41 -0400 (Thu, 14 Aug 2025) EndedAt: 2025-08-14 20:46:01 -0400 (Thu, 14 Aug 2025) EllapsedTime: 199.7 seconds RetCode: 0 Status: OK PackageFile: gwasurvivr_1.27.0.tar.gz PackageFileSize: 343.5 KiB