Package: gwasurvivr Version: 1.27.0 Command: rm -rf gwasurvivr.buildbin-libdir && mkdir gwasurvivr.buildbin-libdir && F:\biocbuild\bbs-3.22-bioc\R\bin\R.exe CMD INSTALL --build --library=gwasurvivr.buildbin-libdir gwasurvivr_1.27.0.tar.gz StartedAt: 2025-08-15 10:26:42 -0400 (Fri, 15 Aug 2025) EndedAt: 2025-08-15 10:27:50 -0400 (Fri, 15 Aug 2025) EllapsedTime: 67.2 seconds RetCode: 0 Status: OK PackageFile: gwasurvivr_1.27.0.zip PackageFileSize: 418.7 KiB