Package: gwascat Version: 2.41.1 Command: F:\biocbuild\bbs-3.22-bioc\R\bin\R.exe CMD INSTALL gwascat StartedAt: 2025-08-14 16:39:01 -0400 (Thu, 14 Aug 2025) EndedAt: 2025-08-14 16:40:19 -0400 (Thu, 14 Aug 2025) EllapsedTime: 77.6 seconds RetCode: 0 Status: OK