Package: gwascat Version: 2.41.1 Command: F:\biocbuild\bbs-3.22-bioc\R\bin\R.exe CMD check --no-multiarch --install=check:gwascat.install-out.txt --library=F:\biocbuild\bbs-3.22-bioc\R\library --no-vignettes --timings gwascat_2.41.1.tar.gz StartedAt: 2025-08-15 04:00:39 -0400 (Fri, 15 Aug 2025) EndedAt: 2025-08-15 04:10:58 -0400 (Fri, 15 Aug 2025) EllapsedTime: 618.7 seconds RetCode: 0 Status: OK CheckDir: gwascat.Rcheck Warnings: 0