Package: gwascat Version: 2.41.1 Command: /home/biocbuild/bbs-3.22-bioc/R/bin/R CMD INSTALL gwascat StartedAt: 2025-10-12 15:39:42 -0400 (Sun, 12 Oct 2025) EndedAt: 2025-10-12 15:40:31 -0400 (Sun, 12 Oct 2025) EllapsedTime: 49.5 seconds RetCode: 0 Status: OK