Package: gwascat Version: 2.41.1 Command: /home/biocbuild/bbs-3.22-bioc/R/bin/R CMD check --install=check:gwascat.install-out.txt --library=/home/biocbuild/bbs-3.22-bioc/R/site-library --timings gwascat_2.41.1.tar.gz StartedAt: 2025-10-13 00:33:27 -0400 (Mon, 13 Oct 2025) EndedAt: 2025-10-13 00:43:08 -0400 (Mon, 13 Oct 2025) EllapsedTime: 580.7 seconds RetCode: 0 Status: OK CheckDir: gwascat.Rcheck Warnings: 0