Package: gwascat Version: 2.41.1 Command: /home/biocbuild/bbs-3.22-bioc/R/bin/R CMD build --keep-empty-dirs --no-resave-data --md5 gwascat StartedAt: 2025-10-13 18:03:29 -0400 (Mon, 13 Oct 2025) EndedAt: 2025-10-13 18:06:04 -0400 (Mon, 13 Oct 2025) EllapsedTime: 155.1 seconds RetCode: 0 Status: OK PackageFile: gwascat_2.41.1.tar.gz PackageFileSize: 33.96 MiB