Package: gwascat Version: 2.41.1 Command: /Library/Frameworks/R.framework/Resources/bin/R CMD INSTALL gwascat StartedAt: 2025-10-16 16:03:25 -0400 (Thu, 16 Oct 2025) EndedAt: 2025-10-16 16:04:45 -0400 (Thu, 16 Oct 2025) EllapsedTime: 80.1 seconds RetCode: 0 Status: OK