Package: gwascat Version: 2.41.1 Command: /Library/Frameworks/R.framework/Resources/bin/R CMD build --keep-empty-dirs --no-resave-data gwascat StartedAt: 2025-10-16 17:57:59 -0400 (Thu, 16 Oct 2025) EndedAt: 2025-10-16 18:02:04 -0400 (Thu, 16 Oct 2025) EllapsedTime: 244.4 seconds RetCode: 0 Status: OK PackageFile: gwascat_2.41.1.tar.gz PackageFileSize: 33.8 MiB