Package: gwascat Version: 2.41.1 Command: /Library/Frameworks/R.framework/Resources/bin/R CMD check --install=check:gwascat.install-out.txt --library=/Library/Frameworks/R.framework/Resources/library --no-vignettes --timings gwascat_2.41.1.tar.gz StartedAt: 2025-10-12 19:48:41 -0400 (Sun, 12 Oct 2025) EndedAt: 2025-10-12 19:51:40 -0400 (Sun, 12 Oct 2025) EllapsedTime: 179.3 seconds RetCode: 0 Status: OK CheckDir: gwascat.Rcheck Warnings: 0