Package: gtrellis Version: 1.41.0 Command: /home/biocbuild/R/R/bin/R CMD build --keep-empty-dirs --no-resave-data gtrellis StartedAt: 2025-10-03 00:30:50 -0000 (Fri, 03 Oct 2025) EndedAt: 2025-10-03 00:34:27 -0000 (Fri, 03 Oct 2025) EllapsedTime: 217.1 seconds RetCode: 0 Status: OK PackageFile: gtrellis_1.41.0.tar.gz PackageFileSize: 1.663 MiB