Package: gscreend Version: 1.23.0 Command: F:\biocbuild\bbs-3.22-bioc\R\bin\R.exe CMD check --no-multiarch --install=check:gscreend.install-out.txt --library=F:\biocbuild\bbs-3.22-bioc\R\library --no-vignettes --timings gscreend_1.23.0.tar.gz StartedAt: 2025-08-15 03:56:40 -0400 (Fri, 15 Aug 2025) EndedAt: 2025-08-15 04:02:31 -0400 (Fri, 15 Aug 2025) EllapsedTime: 350.8 seconds RetCode: 0 Status: OK CheckDir: gscreend.Rcheck Warnings: 0