Package: gscreend Version: 1.23.0 Command: /home/biocbuild/bbs-3.22-bioc/R/bin/R CMD build --keep-empty-dirs --no-resave-data --md5 gscreend StartedAt: 2025-10-21 18:01:27 -0400 (Tue, 21 Oct 2025) EndedAt: 2025-10-21 18:03:13 -0400 (Tue, 21 Oct 2025) EllapsedTime: 106.1 seconds RetCode: 0 Status: OK PackageFile: gscreend_1.23.0.tar.gz PackageFileSize: 3.184 MiB