Package: groHMM Version: 1.43.1 Command: rm -rf groHMM.buildbin-libdir && mkdir groHMM.buildbin-libdir && F:\biocbuild\bbs-3.22-bioc\R\bin\R.exe CMD INSTALL --build --library=groHMM.buildbin-libdir groHMM_1.43.1.tar.gz StartedAt: 2025-08-15 10:25:46 -0400 (Fri, 15 Aug 2025) EndedAt: 2025-08-15 10:26:35 -0400 (Fri, 15 Aug 2025) EllapsedTime: 48.5 seconds RetCode: 0 Status: OK PackageFile: groHMM_1.43.1.zip PackageFileSize: 4.259 MiB