Package: groHMM Version: 1.43.1 Command: /home/biocbuild/bbs-3.22-bioc/R/bin/R CMD INSTALL groHMM StartedAt: 2025-10-20 15:25:44 -0400 (Mon, 20 Oct 2025) EndedAt: 2025-10-20 15:26:17 -0400 (Mon, 20 Oct 2025) EllapsedTime: 32.1 seconds RetCode: 0 Status: OK