Package: groHMM Version: 1.43.1 Command: /home/biocbuild/bbs-3.22-bioc/R/bin/R CMD build --keep-empty-dirs --no-resave-data --md5 groHMM StartedAt: 2025-10-19 18:00:16 -0400 (Sun, 19 Oct 2025) EndedAt: 2025-10-19 18:03:06 -0400 (Sun, 19 Oct 2025) EllapsedTime: 170.2 seconds RetCode: 0 Status: OK PackageFile: groHMM_1.43.1.tar.gz PackageFileSize: 4.164 MiB